BEGIN:VCALENDAR
VERSION:2.0
PRODID:-//Country Club Gledswood Hills - ECPv6.15.16.1//NONSGML v1.0//EN
CALSCALE:GREGORIAN
METHOD:PUBLISH
X-ORIGINAL-URL:https://countryclubgh.com.au
X-WR-CALDESC:Events for Country Club Gledswood Hills
REFRESH-INTERVAL;VALUE=DURATION:PT1H
X-Robots-Tag:noindex
X-PUBLISHED-TTL:PT1H
BEGIN:VTIMEZONE
TZID:Australia/Sydney
BEGIN:STANDARD
TZOFFSETFROM:+1100
TZOFFSETTO:+1000
TZNAME:AEST
DTSTART:20250405T160000
END:STANDARD
BEGIN:DAYLIGHT
TZOFFSETFROM:+1000
TZOFFSETTO:+1100
TZNAME:AEDT
DTSTART:20251004T160000
END:DAYLIGHT
BEGIN:STANDARD
TZOFFSETFROM:+1100
TZOFFSETTO:+1000
TZNAME:AEST
DTSTART:20260404T160000
END:STANDARD
BEGIN:DAYLIGHT
TZOFFSETFROM:+1000
TZOFFSETTO:+1100
TZNAME:AEDT
DTSTART:20261003T160000
END:DAYLIGHT
BEGIN:STANDARD
TZOFFSETFROM:+1100
TZOFFSETTO:+1000
TZNAME:AEST
DTSTART:20270403T160000
END:STANDARD
BEGIN:DAYLIGHT
TZOFFSETFROM:+1000
TZOFFSETTO:+1100
TZNAME:AEDT
DTSTART:20271002T160000
END:DAYLIGHT
END:VTIMEZONE
BEGIN:VEVENT
DTSTART;TZID=Australia/Sydney:20260421T190000
DTEND;TZID=Australia/Sydney:20260421T203000
DTSTAMP:20260421T194817
CREATED:20241215T234038Z
LAST-MODIFIED:20250815T033505Z
UID:10002874-1776798000-1776803400@countryclubgh.com.au
SUMMARY:Weekly Meat Raffles
DESCRIPTION:
URL:https://countryclubgh.com.au/event/weekly-meat-raffles-2/2026-04-21/
CATEGORIES:What's On
END:VEVENT
BEGIN:VEVENT
DTSTART;TZID=Australia/Sydney:20260421T190000
DTEND;TZID=Australia/Sydney:20260421T230000
DTSTAMP:20260421T194817
CREATED:20260223T003305Z
LAST-MODIFIED:20260223T003305Z
UID:10013676-1776798000-1776812400@countryclubgh.com.au
SUMMARY:$25\,000 MEMBERS BADGE DRAW
DESCRIPTION:
URL:https://countryclubgh.com.au/event/25000-members-badge-draw-2/2026-04-21/
CATEGORIES:Promotions
END:VEVENT
BEGIN:VEVENT
DTSTART;VALUE=DATE:20260423
DTEND;VALUE=DATE:20260424
DTSTAMP:20260421T194817
CREATED:20260324T024043Z
LAST-MODIFIED:20260330T034522Z
UID:10015054-1776902400-1776988799@countryclubgh.com.au
SUMMARY:JET SET MENU PASSPORT
DESCRIPTION:
URL:https://countryclubgh.com.au/event/jet-set-menu-passport-2/2026-04-23/
CATEGORIES:Promotions
END:VEVENT
BEGIN:VEVENT
DTSTART;TZID=Australia/Sydney:20260423T123000
DTEND;TZID=Australia/Sydney:20260423T153000
DTSTAMP:20260421T194817
CREATED:20250801T004637Z
LAST-MODIFIED:20260331T232052Z
UID:10010638-1776947400-1776958200@countryclubgh.com.au
SUMMARY:Wallet Wonder
DESCRIPTION:
URL:https://countryclubgh.com.au/event/wallet-wonder-3/2026-04-23/
CATEGORIES:Promotions
END:VEVENT
BEGIN:VEVENT
DTSTART;TZID=Australia/Sydney:20260423T130000
DTEND;TZID=Australia/Sydney:20260423T150000
DTSTAMP:20260421T194817
CREATED:20250801T004917Z
LAST-MODIFIED:20260331T231716Z
UID:10011682-1776949200-1776956400@countryclubgh.com.au
SUMMARY:Trolley Dash
DESCRIPTION:
URL:https://countryclubgh.com.au/event/trolley-dash-3/2026-04-23/
CATEGORIES:What's On
END:VEVENT
BEGIN:VEVENT
DTSTART;TZID=Australia/Sydney:20260423T193000
DTEND;TZID=Australia/Sydney:20260423T193000
DTSTAMP:20260421T194817
CREATED:20260326T224735Z
LAST-MODIFIED:20260409T015218Z
UID:10015071-1776972600-1776972600@countryclubgh.com.au
SUMMARY:CASH OR KEY-AH - WEEKLY DRAWS
DESCRIPTION:
URL:https://countryclubgh.com.au/event/cash-or-key-ah-weekly-draws/2026-04-23/
CATEGORIES:Promotions
END:VEVENT
BEGIN:VEVENT
DTSTART;TZID=Australia/Sydney:20260424T190000
DTEND;TZID=Australia/Sydney:20260424T200000
DTSTAMP:20260421T194817
CREATED:20260414T004507Z
LAST-MODIFIED:20260414T013857Z
UID:10015137-1777057200-1777060800@countryclubgh.com.au
SUMMARY:$4\,000 LONG WEEKEND BARBECUE RAFFLE
DESCRIPTION:
URL:https://countryclubgh.com.au/event/4000-long-weekend-barbecue-raffle/
CATEGORIES:Promotions,What's On
END:VEVENT
BEGIN:VEVENT
DTSTART;TZID=Australia/Sydney:20260425T190000
DTEND;TZID=Australia/Sydney:20260425T230000
DTSTAMP:20260421T194817
CREATED:20260325T233059Z
LAST-MODIFIED:20260325T233059Z
UID:10015064-1777143600-1777158000@countryclubgh.com.au
SUMMARY:$30\,000 LONG WEEKEND CASH GIVEAWAY
DESCRIPTION:
URL:https://countryclubgh.com.au/event/30000-long-weekend-cash-giveaway/
CATEGORIES:Promotions
END:VEVENT
BEGIN:VEVENT
DTSTART;TZID=Australia/Sydney:20260426T090000
DTEND;TZID=Australia/Sydney:20260426T110000
DTSTAMP:20260421T194817
CREATED:20250512T225747Z
LAST-MODIFIED:20250512T225747Z
UID:10005330-1777194000-1777201200@countryclubgh.com.au
SUMMARY:Sunday Breakfast
DESCRIPTION:
URL:https://countryclubgh.com.au/event/sunday-breakfast/2026-04-26/
CATEGORIES:What's On
END:VEVENT
BEGIN:VEVENT
DTSTART;TZID=Australia/Sydney:20260426T193000
DTEND;TZID=Australia/Sydney:20260426T230000
DTSTAMP:20260421T194817
CREATED:20260324T014124Z
LAST-MODIFIED:20260330T033618Z
UID:10015053-1777231800-1777244400@countryclubgh.com.au
SUMMARY:$25\,000 JET SET JACKPOT – JAPAN
DESCRIPTION:
URL:https://countryclubgh.com.au/event/25000-jet-set-jackpot-japan/
CATEGORIES:Promotions
END:VEVENT
BEGIN:VEVENT
DTSTART;TZID=Australia/Sydney:20260427T123000
DTEND;TZID=Australia/Sydney:20260427T153000
DTSTAMP:20260421T194817
CREATED:20250828T033828Z
LAST-MODIFIED:20260331T232039Z
UID:10012526-1777293000-1777303800@countryclubgh.com.au
SUMMARY:Wallet Wonder
DESCRIPTION:
URL:https://countryclubgh.com.au/event/wallet-wonder/2026-04-27/
CATEGORIES:Promotions
END:VEVENT
BEGIN:VEVENT
DTSTART;TZID=Australia/Sydney:20260427T130000
DTEND;TZID=Australia/Sydney:20260427T150000
DTSTAMP:20260421T194817
CREATED:20250728T231552Z
LAST-MODIFIED:20260331T231748Z
UID:10007930-1777294800-1777302000@countryclubgh.com.au
SUMMARY:Trolley Dash
DESCRIPTION:
URL:https://countryclubgh.com.au/event/trolley-dash/2026-04-27/
CATEGORIES:What's On
END:VEVENT
BEGIN:VEVENT
DTSTART;TZID=Australia/Sydney:20260427T190000
DTEND;TZID=Australia/Sydney:20260427T203000
DTSTAMP:20260421T194817
CREATED:20210224T224924Z
LAST-MODIFIED:20220824T002703Z
UID:10002089-1777316400-1777321800@countryclubgh.com.au
SUMMARY:Trivia Mondays
DESCRIPTION:
URL:https://countryclubgh.com.au/event/5177/2026-04-27/
CATEGORIES:What's On
END:VEVENT
BEGIN:VEVENT
DTSTART;TZID=Australia/Sydney:20260427T190000
DTEND;TZID=Australia/Sydney:20260427T210000
DTSTAMP:20260421T194817
CREATED:20250918T230319Z
LAST-MODIFIED:20260302T234021Z
UID:10012850-1777316400-1777323600@countryclubgh.com.au
SUMMARY:Trivia Mondays
DESCRIPTION:
URL:https://countryclubgh.com.au/event/trivia-mondays/2026-04-27/
CATEGORIES:What's On
END:VEVENT
BEGIN:VEVENT
DTSTART;TZID=Australia/Sydney:20260427T190000
DTEND;TZID=Australia/Sydney:20260427T230000
DTSTAMP:20260421T194817
CREATED:20260325T234713Z
LAST-MODIFIED:20260325T234713Z
UID:10015065-1777316400-1777330800@countryclubgh.com.au
SUMMARY:$30\,000 LONG WEEKEND CASH GIVEAWAY
DESCRIPTION:
URL:https://countryclubgh.com.au/event/30000-long-weekend-cash-giveaway-2/
CATEGORIES:Promotions
END:VEVENT
BEGIN:VEVENT
DTSTART;TZID=Australia/Sydney:20260428T123000
DTEND;TZID=Australia/Sydney:20260428T153000
DTSTAMP:20260421T194817
CREATED:20250801T004622Z
LAST-MODIFIED:20260331T232107Z
UID:10010379-1777379400-1777390200@countryclubgh.com.au
SUMMARY:Wallet Wonder
DESCRIPTION:
URL:https://countryclubgh.com.au/event/wallet-wonder-2/2026-04-28/
CATEGORIES:Promotions
END:VEVENT
BEGIN:VEVENT
DTSTART;TZID=Australia/Sydney:20260428T130000
DTEND;TZID=Australia/Sydney:20260428T150000
DTSTAMP:20260421T194817
CREATED:20250801T004910Z
LAST-MODIFIED:20260331T231732Z
UID:10011423-1777381200-1777388400@countryclubgh.com.au
SUMMARY:Trolley Dash
DESCRIPTION:
URL:https://countryclubgh.com.au/event/trolley-dash-2/2026-04-28/
CATEGORIES:What's On
END:VEVENT
BEGIN:VEVENT
DTSTART;TZID=Australia/Sydney:20260503T110000
DTEND;TZID=Australia/Sydney:20260503T140000
DTSTAMP:20260421T194817
CREATED:20251209T015806Z
LAST-MODIFIED:20251209T015806Z
UID:10013342-1777806000-1777816800@countryclubgh.com.au
SUMMARY:Free Kids Face Painting
DESCRIPTION:
URL:https://countryclubgh.com.au/event/free-kids-face-painting-7/
CATEGORIES:For the Kids
END:VEVENT
BEGIN:VEVENT
DTSTART;TZID=Australia/Sydney:20260503T160000
DTEND;TZID=Australia/Sydney:20260503T180000
DTSTAMP:20260421T194817
CREATED:20260409T015652Z
LAST-MODIFIED:20260409T015652Z
UID:10015125-1777824000-1777831200@countryclubgh.com.au
SUMMARY:BIRTHDAY BONUS - MAY
DESCRIPTION:
URL:https://countryclubgh.com.au/event/birthday-bonus-may/
CATEGORIES:Promotions
END:VEVENT
BEGIN:VEVENT
DTSTART;TZID=Australia/Sydney:20260506T170000
DTEND;TZID=Australia/Sydney:20260506T190000
DTSTAMP:20260421T194817
CREATED:20260413T222055Z
LAST-MODIFIED:20260413T222807Z
UID:10015136-1778086800-1778094000@countryclubgh.com.au
SUMMARY:BOXING: TSZYU V DIAZ
DESCRIPTION:
URL:https://countryclubgh.com.au/event/boxing-tszyu-v-diaz/
CATEGORIES:What's On
END:VEVENT
BEGIN:VEVENT
DTSTART;TZID=Australia/Sydney:20260510T110000
DTEND;TZID=Australia/Sydney:20260510T140000
DTSTAMP:20260421T194817
CREATED:20251209T015811Z
LAST-MODIFIED:20251209T015811Z
UID:10013341-1778410800-1778421600@countryclubgh.com.au
SUMMARY:Free Kids Face Painting
DESCRIPTION:
URL:https://countryclubgh.com.au/event/free-kids-face-painting-8/
CATEGORIES:For the Kids
END:VEVENT
BEGIN:VEVENT
DTSTART;TZID=Australia/Sydney:20260618T190000
DTEND;TZID=Australia/Sydney:20260618T213000
DTSTAMP:20260421T194817
CREATED:20260326T224702Z
LAST-MODIFIED:20260409T015234Z
UID:10015068-1781809200-1781818200@countryclubgh.com.au
SUMMARY:CASH OR KEY-AH - MAJOR DRAW
DESCRIPTION:
URL:https://countryclubgh.com.au/event/cash-or-key-ah-major-draw/
CATEGORIES:Promotions
END:VEVENT
BEGIN:VEVENT
DTSTART;TZID=Australia/Sydney:20260621T110000
DTEND;TZID=Australia/Sydney:20260621T140000
DTSTAMP:20260421T194817
CREATED:20251209T015833Z
LAST-MODIFIED:20251209T015833Z
UID:10013347-1782039600-1782050400@countryclubgh.com.au
SUMMARY:Free Kids Face Painting
DESCRIPTION:
URL:https://countryclubgh.com.au/event/free-kids-face-painting-9/
CATEGORIES:For the Kids
END:VEVENT
END:VCALENDAR